BEGIN:VCALENDAR
VERSION:2.0
PRODID:-//SICC - ECPv5.7.1//NONSGML v1.0//EN
CALSCALE:GREGORIAN
METHOD:PUBLISH
X-ORIGINAL-URL:https://sicc.ch
X-WR-CALDESC:Events for SICC
BEGIN:VTIMEZONE
TZID:Asia/Kolkata
BEGIN:STANDARD
TZOFFSETFROM:+0530
TZOFFSETTO:+0530
TZNAME:IST
DTSTART:20220101T000000
END:STANDARD
END:VTIMEZONE
BEGIN:VEVENT
DTSTART;TZID=Asia/Kolkata:20220927T103000
DTEND;TZID=Asia/Kolkata:20220927T133000
DTSTAMP:20260420T045103
CREATED:20220928T093357Z
LAST-MODIFIED:20220928T093421Z
UID:6837-1664274600-1664285400@sicc.ch
SUMMARY:World Tourism Day
DESCRIPTION:
URL:https://sicc.ch/event/world-tourism-day-2/
CATEGORIES:Partner Event
ATTACH;FMTTYPE=image/jpeg:https://sicc.ch/wp-content/uploads/2019/05/SICC-switzerland-india-flags.jpg
END:VEVENT
END:VCALENDAR