BEGIN:VCALENDAR
VERSION:2.0
PRODID:-//SICC - ECPv5.7.1//NONSGML v1.0//EN
CALSCALE:GREGORIAN
METHOD:PUBLISH
X-ORIGINAL-URL:https://sicc.ch
X-WR-CALDESC:Events for SICC
BEGIN:VTIMEZONE
TZID:Asia/Kolkata
BEGIN:STANDARD
TZOFFSETFROM:+0530
TZOFFSETTO:+0530
TZNAME:IST
DTSTART:20210101T000000
END:STANDARD
END:VTIMEZONE
BEGIN:VEVENT
DTSTART;TZID=Asia/Kolkata:20210708T160000
DTEND;TZID=Asia/Kolkata:20210708T173000
DTSTAMP:20260420T045356
CREATED:20210630T043807Z
LAST-MODIFIED:20210630T111429Z
UID:5903-1625760000-1625765400@sicc.ch
SUMMARY:What's New in Indian Competition Law?
DESCRIPTION:Meeting link: https://us02web.zoom.us/j/89337505937?pwd=OS9UNkpsZ0FHNFJQaTI5NE9QOE5idz09\nMeeting ID: 893 3750 5937\nPasscode: 666039
URL:https://sicc.ch/event/whats-new-in-indian-competition-law/
CATEGORIES:Webinar
ATTACH;FMTTYPE=image/jpeg:https://sicc.ch/wp-content/uploads/2019/05/SICC-switzerland-india-flags.jpg
END:VEVENT
END:VCALENDAR