BEGIN:VCALENDAR
VERSION:2.0
PRODID:-//SICC - ECPv5.7.1//NONSGML v1.0//EN
CALSCALE:GREGORIAN
METHOD:PUBLISH
X-ORIGINAL-URL:https://sicc.ch
X-WR-CALDESC:Events for SICC
BEGIN:VTIMEZONE
TZID:Asia/Kolkata
BEGIN:STANDARD
TZOFFSETFROM:+0530
TZOFFSETTO:+0530
TZNAME:IST
DTSTART:20200101T000000
END:STANDARD
END:VTIMEZONE
BEGIN:VEVENT
DTSTART;TZID=Asia/Kolkata:20200622T163000
DTEND;TZID=Asia/Kolkata:20200622T173000
DTSTAMP:20260420T004341
CREATED:20200622T101507Z
LAST-MODIFIED:20200622T101507Z
UID:5109-1592843400-1592847000@sicc.ch
SUMMARY:WEBINAR - THE SUPREME COURT ORDER ON PAYMENT OF WAGES
DESCRIPTION:COVID-19 has caused severe impacts on business which may take several months\, or even years\, to\nresolve. The special circumstances caused by the pandemic and lockdown have caused widespread\nbusiness closure\, with equally adverse effects on employers and employees. The nature of all\nindustries and establishments is different and they have different abilities to pay wages in respect of\nperiods of closure or limited operation – there is no “one size fits all” solution. Despite loss of market\ndemand and business closure during lockdown\, the Ministry of Home Affairs on March 29\, 2020\ndirected employers to pay full wages to employees. \nThe discussion will be around: \n• Was the MHA’s March 29\, 2020 Order within its powers under the National Disaster\nManagement Act\, 2005? \n• The Government’s intent to prevent migration of workers through issuing the Order to pay\nwages did not have the desired result – what next? \n• What will be the impact on employer-employee working relations as they try to reach a\nsettlement as directed by the Supreme Court? \n• Can businesses and employees’ unions have fruitful negotiations and reach balanced\nsettlement without prejudice to the return to work post unlock\, as directed by the Supreme\nCourt of India on June 12\, 2020? \nSICC India – Webinar – The Supreme Court Order on Payment of Wages
URL:https://sicc.ch/event/webinar-the-supreme-court-order-on-payment-of-wages/
CATEGORIES:Webinar
ATTACH;FMTTYPE=image/jpeg:https://sicc.ch/wp-content/uploads/2019/05/SICC-switzerland-india-flags.jpg
END:VEVENT
END:VCALENDAR