BEGIN:VCALENDAR
VERSION:2.0
PRODID:-//SICC - ECPv5.7.1//NONSGML v1.0//EN
CALSCALE:GREGORIAN
METHOD:PUBLISH
X-ORIGINAL-URL:https://sicc.ch
X-WR-CALDESC:Events for SICC
BEGIN:VTIMEZONE
TZID:Asia/Kolkata
BEGIN:STANDARD
TZOFFSETFROM:+0530
TZOFFSETTO:+0530
TZNAME:IST
DTSTART:20220101T000000
END:STANDARD
END:VTIMEZONE
BEGIN:VEVENT
DTSTART;TZID=Asia/Kolkata:20220202T163000
DTEND;TZID=Asia/Kolkata:20220202T173000
DTSTAMP:20260420T075119
CREATED:20220127T090114Z
LAST-MODIFIED:20220128T140501Z
UID:6412-1643819400-1643823000@sicc.ch
SUMMARY:Webinar - Post-Budget Analysis 2022 in India
DESCRIPTION:Register in advance for this webinar:  https://us06web.zoom.us/webinar/register/WN_-jxAHNWiSJisriQhKEXH7g
URL:https://sicc.ch/event/webinar-post-budget-analysis-2022-in-india/
CATEGORIES:Webinar
ATTACH;FMTTYPE=image/jpeg:https://sicc.ch/wp-content/uploads/2019/05/SICC-switzerland-india-flags.jpg
END:VEVENT
END:VCALENDAR