BEGIN:VCALENDAR
VERSION:2.0
PRODID:-//SICC - ECPv5.7.1//NONSGML v1.0//EN
CALSCALE:GREGORIAN
METHOD:PUBLISH
X-ORIGINAL-URL:https://sicc.ch
X-WR-CALDESC:Events for SICC
BEGIN:VTIMEZONE
TZID:Asia/Kolkata
BEGIN:STANDARD
TZOFFSETFROM:+0530
TZOFFSETTO:+0530
TZNAME:IST
DTSTART:20210101T000000
END:STANDARD
END:VTIMEZONE
BEGIN:VEVENT
DTSTART;TZID=Asia/Kolkata:20210203T110000
DTEND;TZID=Asia/Kolkata:20210203T123000
DTSTAMP:20260420T032704
CREATED:20210129T093823Z
LAST-MODIFIED:20210129T094331Z
UID:5662-1612350000-1612355400@sicc.ch
SUMMARY:Analysis Finance Budget
DESCRIPTION:Webinar on Analysis – Finance Budget 2021\nAmid the ongoing COVID-19 crisis\, the first paperless India Union Budget 2021-22 is to be presented on 1 February 2021. This budget is a significant one and is likely to focus on boosting growth\, bringing an impetus to the Indian economy\, providing relief especially those impacted by the COVID-19 led downturn and benefitting the masses. \nIn this backdrop\, KPMG in India\, in association with the Swiss-Indian Chamber of Commerce India (SICC)\, is delighted to invite you for a webinar session on the Indian Union Budget 2021 on 3 February 2021 at 11.00 a.m. to 12.30 p.m. IST. In the webinar\, senior partners from KPMG in India will present to SICC members their analysis and discuss the proposals presented in the Union Budget 2021. The session will be followed by Q&A. \nTo join the webinar please click the Invitation \nKPMG-SICC India-Webinar Union Budget -Feb 3\, 2021
URL:https://sicc.ch/event/webinar-on-analysis-finance-budget-2021/
CATEGORIES:Webinar
ATTACH;FMTTYPE=image/jpeg:https://sicc.ch/wp-content/uploads/2019/05/SICC-switzerland-india-flags.jpg
END:VEVENT
END:VCALENDAR