BEGIN:VCALENDAR
VERSION:2.0
PRODID:-//SICC - ECPv5.7.1//NONSGML v1.0//EN
CALSCALE:GREGORIAN
METHOD:PUBLISH
X-ORIGINAL-URL:https://sicc.ch
X-WR-CALDESC:Events for SICC
BEGIN:VTIMEZONE
TZID:Asia/Kolkata
BEGIN:STANDARD
TZOFFSETFROM:+0530
TZOFFSETTO:+0530
TZNAME:IST
DTSTART:20200101T000000
END:STANDARD
END:VTIMEZONE
BEGIN:VEVENT
DTSTART;TZID=Asia/Kolkata:20200617T170000
DTEND;TZID=Asia/Kolkata:20200617T180000
DTSTAMP:20260420T015055
CREATED:20200616T121829Z
LAST-MODIFIED:20200617T071742Z
UID:5070-1592413200-1592416800@sicc.ch
SUMMARY:Webinar - Macro Economic Outlook : India and Global
DESCRIPTION:Amid the coronavirus pandemic\, several counties across the world resorted to lockdowns to “faltten the curve” of the infection. These lockdowns meant confining millions of citizens to their homes\, shutting down businesses and ceasing almost all economic activity. Now\, as countries lift restrictions and gradually restart their economics\, let’s have a look at how the pandemic has affected the macroeconomic landscape as well as take a look at the policy measures taken so far to mitigate the impact of the virus. \nSICC INDIA -Webinar Invite June 17 2020
URL:https://sicc.ch/event/webinar-macro-economic-outlook-india-and-global/
LOCATION:Online Webinar
CATEGORIES:Webinar
ATTACH;FMTTYPE=image/jpeg:https://sicc.ch/wp-content/uploads/2019/05/SICC-switzerland-india-flags.jpg
END:VEVENT
END:VCALENDAR