BEGIN:VCALENDAR
VERSION:2.0
PRODID:-//SICC - ECPv5.7.1//NONSGML v1.0//EN
CALSCALE:GREGORIAN
METHOD:PUBLISH
X-ORIGINAL-URL:https://sicc.ch
X-WR-CALDESC:Events for SICC
BEGIN:VTIMEZONE
TZID:Asia/Kolkata
BEGIN:STANDARD
TZOFFSETFROM:+0530
TZOFFSETTO:+0530
TZNAME:IST
DTSTART:20220101T000000
END:STANDARD
END:VTIMEZONE
BEGIN:VEVENT
DTSTART;TZID=Asia/Kolkata:20220128T163000
DTEND;TZID=Asia/Kolkata:20220128T180000
DTSTAMP:20260420T063153
CREATED:20220119T071007Z
LAST-MODIFIED:20220119T071219Z
UID:6391-1643387400-1643392800@sicc.ch
SUMMARY:Webinar-Innovation and Patents - Issues\, Enforcement and Evolvement of the Law in India
DESCRIPTION:Register in advance for this webinar: \n\nhttps://us06web.zoom.us/webinar/register/WN_HIevKPq8QzeocklQdlD6aQ  \n\nAfter registering\, you will receive a confirmation email containing information about joining the webinar. 
URL:https://sicc.ch/event/webinar-innovation-and-patents-issues-enforcement-and-evolvement-of-the-law-in-india/
CATEGORIES:Webinar
ATTACH;FMTTYPE=image/jpeg:https://sicc.ch/wp-content/uploads/2019/05/SICC-switzerland-india-flags.jpg
END:VEVENT
END:VCALENDAR