BEGIN:VCALENDAR
VERSION:2.0
PRODID:-//SICC - ECPv5.7.1//NONSGML v1.0//EN
CALSCALE:GREGORIAN
METHOD:PUBLISH
X-ORIGINAL-URL:https://sicc.ch
X-WR-CALDESC:Events for SICC
BEGIN:VTIMEZONE
TZID:Asia/Kolkata
BEGIN:STANDARD
TZOFFSETFROM:+0530
TZOFFSETTO:+0530
TZNAME:IST
DTSTART:20200101T000000
END:STANDARD
END:VTIMEZONE
BEGIN:VEVENT
DTSTART;TZID=Asia/Kolkata:20201029T160000
DTEND;TZID=Asia/Kolkata:20201029T170000
DTSTAMP:20260420T015529
CREATED:20201028T043103Z
LAST-MODIFIED:20201028T043154Z
UID:5464-1603987200-1603990800@sicc.ch
SUMMARY:Virtual Diwali Bazaar
DESCRIPTION:SVP India Gifting Catalogue 2020\nPlease click the link below to join the webinar:\nhttps://zoom.us/j/98554173822?pwd=RWM3Z3FZM2czQUt5Yk9WdndUb2xOZz09\nPasscode: 669567
URL:https://sicc.ch/event/virtual-diwali-bazaar/
CATEGORIES:Webinar
ATTACH;FMTTYPE=image/jpeg:https://sicc.ch/wp-content/uploads/2019/05/SICC-switzerland-india-flags.jpg
END:VEVENT
END:VCALENDAR