BEGIN:VCALENDAR
VERSION:2.0
PRODID:-//SICC - ECPv5.7.1//NONSGML v1.0//EN
CALSCALE:GREGORIAN
METHOD:PUBLISH
X-ORIGINAL-URL:https://sicc.ch
X-WR-CALDESC:Events for SICC
BEGIN:VTIMEZONE
TZID:Asia/Kolkata
BEGIN:STANDARD
TZOFFSETFROM:+0530
TZOFFSETTO:+0530
TZNAME:IST
DTSTART:20200101T000000
END:STANDARD
END:VTIMEZONE
BEGIN:VEVENT
DTSTART;TZID=Asia/Kolkata:20200528T160000
DTEND;TZID=Asia/Kolkata:20200528T160000
DTSTAMP:20260420T003123
CREATED:20200522T052134Z
LAST-MODIFIED:20200522T131623Z
UID:4952-1590681600-1590681600@sicc.ch
SUMMARY:Valuation Challenges Arising From COVID-19
DESCRIPTION:COVID-19 has caused severe impact on business\, which may take several months\, or even a couple of years\, to resolve. This impact has a material bearing on valuations of business\, investments\, goodwill\, intangibles etc. Valuation needs arise from multiple aspects including debt security\, impairment recognition and other such matters; these are not restricted to purchase or sale transaction situations. \n  \nMr. Vijay Thacker\, Partner and CEO of Crowe Advisory Services (India) LLP will discuss: \n\nBackground of valuation needs and principles\nThe direct issues from COVID-19\nApproach to COVID-19 impact\nRegulatory compliance on valuations\, amidst COVID-19\nQ & A\n\nThe session will seek to provide participants a guide path for dealing with the needs and challenges on Valuation issues facing their companies and businesses\, arising from COVID-19. \nView PDF Invitation \n Please click this link to login to the Webinar \nFor details\, please contact\, Darshana Thaker; +91 887 901 0160; darshana.thaker@siccindia.in \n  \nAbout Crowe Advisory Services (India) LLP \nCrowe Advisory Services (India) LLP provides a wide range of advisory assistance in the areas of Corporate Finance: due diligence\, valuations\, transaction and M&A advisory\nRisk Consulting\, including Third party Risk and internal audits\nTaxation – international\, domestic and transfer pricing\nDigital Security\nData Sciences\nOutsourcing and Business Support services \nThe Firm is a member of Crowe Global\, the eighth largest accounting and consulting network worldwide with member firms in 146 countries.
URL:https://sicc.ch/event/valuation-challenges-arising-from-covid-19/
LOCATION:Online Webinar
ATTACH;FMTTYPE=image/jpeg:https://sicc.ch/wp-content/uploads/2020/05/Valuation-Challenges-Webinar-SICC-India.jpg
END:VEVENT
END:VCALENDAR