BEGIN:VCALENDAR
VERSION:2.0
PRODID:-//SICC - ECPv5.7.1//NONSGML v1.0//EN
CALSCALE:GREGORIAN
METHOD:PUBLISH
X-ORIGINAL-URL:https://sicc.ch
X-WR-CALDESC:Events for SICC
BEGIN:VTIMEZONE
TZID:Asia/Kolkata
BEGIN:STANDARD
TZOFFSETFROM:+0530
TZOFFSETTO:+0530
TZNAME:IST
DTSTART:20240101T000000
END:STANDARD
END:VTIMEZONE
BEGIN:VEVENT
DTSTART;TZID=Asia/Kolkata:20240726T083000
DTEND;TZID=Asia/Kolkata:20240726T101500
DTSTAMP:20260420T032852
CREATED:20240723T120223Z
LAST-MODIFIED:20240723T120715Z
UID:7907-1721982600-1721988900@sicc.ch
SUMMARY:Unmasking Deception: Strategies for CEOs in the Fight Against Financial Fraud and Forensics
DESCRIPTION:
URL:https://sicc.ch/event/unmasking-deception-strategies-for-ceos-in-the-fight-against-financial-fraud-and-forensics/
ATTACH;FMTTYPE=image/jpeg:https://sicc.ch/wp-content/uploads/2019/05/SICC-switzerland-india-flags.jpg
END:VEVENT
END:VCALENDAR