BEGIN:VCALENDAR
VERSION:2.0
PRODID:-//SICC - ECPv5.7.1//NONSGML v1.0//EN
CALSCALE:GREGORIAN
METHOD:PUBLISH
X-ORIGINAL-URL:https://sicc.ch
X-WR-CALDESC:Events for SICC
BEGIN:VTIMEZONE
TZID:Asia/Kolkata
BEGIN:STANDARD
TZOFFSETFROM:+0530
TZOFFSETTO:+0530
TZNAME:IST
DTSTART:20230101T000000
END:STANDARD
END:VTIMEZONE
BEGIN:VEVENT
DTSTART;TZID=Asia/Kolkata:20231102T180000
DTEND;TZID=Asia/Kolkata:20231102T200000
DTSTAMP:20260420T032619
CREATED:20231017T044630Z
LAST-MODIFIED:20231017T045334Z
UID:7405-1698948000-1698955200@sicc.ch
SUMMARY:Unlocking Success in the Modern Workplace
DESCRIPTION:The workplace landscape is evolving at an unprecedented pace\, driven by technological advancements\, changing employee expectations\, and global connectivity. To remain competitive and thrive in this dynamic environment please join us for an Enlightening Session (in all aspect- Knowledge and Festive) on the Topic “Unlocking Success in the Modern Workplace: HR Best Practices\, Talent Supply Chain\, and Workforce Productivity” with a Panel Discussion from esteemed industry professionals\, providing a platform for fruitful discussions and shared learnings.  Your presence will add value to this event\, and we look forward to celebrating the spirit of Diwali with you.  RSVP: Please contact – events.siccindia@gmail.com 
URL:https://sicc.ch/event/unlocking-success-in-the-modern-workplace/
LOCATION:Pune\, Maharashtra
CATEGORIES:Key Note Presentation
ATTACH;FMTTYPE=image/jpeg:https://sicc.ch/wp-content/uploads/2019/05/SICC-switzerland-india-flags.jpg
END:VEVENT
END:VCALENDAR