BEGIN:VCALENDAR
VERSION:2.0
PRODID:-//SICC - ECPv5.7.1//NONSGML v1.0//EN
CALSCALE:GREGORIAN
METHOD:PUBLISH
X-ORIGINAL-URL:https://sicc.ch
X-WR-CALDESC:Events for SICC
BEGIN:VTIMEZONE
TZID:Asia/Kolkata
BEGIN:STANDARD
TZOFFSETFROM:+0530
TZOFFSETTO:+0530
TZNAME:IST
DTSTART:20230101T000000
END:STANDARD
END:VTIMEZONE
BEGIN:VEVENT
DTSTART;TZID=Asia/Kolkata:20230202T083000
DTEND;TZID=Asia/Kolkata:20230202T103000
DTSTAMP:20260420T040053
CREATED:20230125T173844Z
LAST-MODIFIED:20230125T174145Z
UID:6971-1675326600-1675333800@sicc.ch
SUMMARY:UNION BUDGET 2023 – POST BUDGET ANALYSIS
DESCRIPTION:SICCI – INVITATION – UNION BUDGET 2023 – POST BUDGET ANALYSIS-Feb 2\, 2023
URL:https://sicc.ch/event/union-budget-2023-post-budget-analysis/
LOCATION:Pune\, Maharashtra
ATTACH;FMTTYPE=image/jpeg:https://sicc.ch/wp-content/uploads/2019/05/SICC-switzerland-india-flags.jpg
END:VEVENT
END:VCALENDAR