BEGIN:VCALENDAR
VERSION:2.0
PRODID:-//SICC - ECPv5.7.1//NONSGML v1.0//EN
CALSCALE:GREGORIAN
METHOD:PUBLISH
X-ORIGINAL-URL:https://sicc.ch
X-WR-CALDESC:Events for SICC
BEGIN:VTIMEZONE
TZID:Asia/Kolkata
BEGIN:STANDARD
TZOFFSETFROM:+0530
TZOFFSETTO:+0530
TZNAME:IST
DTSTART:20230101T000000
END:STANDARD
END:VTIMEZONE
BEGIN:VEVENT
DTSTART;TZID=Asia/Kolkata:20230804T183000
DTEND;TZID=Asia/Kolkata:20230804T220000
DTSTAMP:20260420T031524
CREATED:20230703T061843Z
LAST-MODIFIED:20230714T051549Z
UID:7210-1691173800-1691186400@sicc.ch
SUMMARY:INDO SWISS BOLLYWOOD NITE
DESCRIPTION:
URL:https://sicc.ch/event/the-indo-swiss-bollywood-night/
LOCATION:Mumbai\, Maharashtra
CATEGORIES:SICC Flagship Event
ATTACH;FMTTYPE=image/jpeg:https://sicc.ch/wp-content/uploads/2019/05/SICC-switzerland-india-flags.jpg
END:VEVENT
END:VCALENDAR