BEGIN:VCALENDAR
VERSION:2.0
PRODID:-//SICC - ECPv5.7.1//NONSGML v1.0//EN
CALSCALE:GREGORIAN
METHOD:PUBLISH
X-ORIGINAL-URL:https://sicc.ch
X-WR-CALDESC:Events for SICC
BEGIN:VTIMEZONE
TZID:UTC
BEGIN:STANDARD
TZOFFSETFROM:+0000
TZOFFSETTO:+0000
TZNAME:UTC
DTSTART:20150101T000000
END:STANDARD
END:VTIMEZONE
BEGIN:VEVENT
DTSTART;VALUE=DATE:20150921
DTEND;VALUE=DATE:20150922
DTSTAMP:20260419T212635
CREATED:20181210T064341Z
LAST-MODIFIED:20191031T072802Z
UID:2032-1442793600-1442879999@sicc.ch
SUMMARY:Swiss Indian Intercultural Exchanges
DESCRIPTION:A Swiss Evening of shared experience – address by Mr. Dipak Mane\, Chief Human Resources Officer Member of the Executive Board Buhler Management AG\n\non “Swiss Indian Intercultural Exchanges“ \nOrganiser: Swiss Consulate Bangalore and SICC INDIA – SOUTH  \nBangalore\, Karnataka \nFor more information please contact Darshana Thaker on darshana.siccindia@gmail.com
URL:https://sicc.ch/event/swiss-indian-intercultural-exchanges/
LOCATION:Bangalore\, Karnataka\, Bangalore\, Karnataka\, India
ATTACH;FMTTYPE=image/jpeg:https://sicc.ch/wp-content/uploads/2019/05/SICC-switzerland-india-flags.jpg
END:VEVENT
END:VCALENDAR