BEGIN:VCALENDAR
VERSION:2.0
PRODID:-//SICC - ECPv5.7.1//NONSGML v1.0//EN
CALSCALE:GREGORIAN
METHOD:PUBLISH
X-ORIGINAL-URL:https://sicc.ch
X-WR-CALDESC:Events for SICC
BEGIN:VTIMEZONE
TZID:Asia/Kolkata
BEGIN:STANDARD
TZOFFSETFROM:+0530
TZOFFSETTO:+0530
TZNAME:IST
DTSTART:20210101T000000
END:STANDARD
END:VTIMEZONE
BEGIN:VEVENT
DTSTART;TZID=Asia/Kolkata:20210422T153000
DTEND;TZID=Asia/Kolkata:20210422T180000
DTSTAMP:20260420T032625
CREATED:20210408T100245Z
LAST-MODIFIED:20210408T101020Z
UID:5793-1619105400-1619114400@sicc.ch
SUMMARY:Swiss Business Roundtable
DESCRIPTION:
URL:https://sicc.ch/event/swiss-business-hub-india-roundtable/
CATEGORIES:Webinar
ATTACH;FMTTYPE=image/jpeg:https://sicc.ch/wp-content/uploads/2019/05/SICC-switzerland-india-flags.jpg
END:VEVENT
END:VCALENDAR