BEGIN:VCALENDAR
VERSION:2.0
PRODID:-//SICC - ECPv5.7.1//NONSGML v1.0//EN
CALSCALE:GREGORIAN
METHOD:PUBLISH
X-ORIGINAL-URL:https://sicc.ch
X-WR-CALDESC:Events for SICC
BEGIN:VTIMEZONE
TZID:Asia/Kolkata
BEGIN:STANDARD
TZOFFSETFROM:+0530
TZOFFSETTO:+0530
TZNAME:IST
DTSTART:20230101T000000
END:STANDARD
END:VTIMEZONE
BEGIN:VEVENT
DTSTART;TZID=Asia/Kolkata:20230209T190000
DTEND;TZID=Asia/Kolkata:20230209T210000
DTSTAMP:20260420T032618
CREATED:20230206T083756Z
LAST-MODIFIED:20230206T083758Z
UID:7043-1675969200-1675976400@sicc.ch
SUMMARY:SICCI Leadership Lectures
DESCRIPTION:
URL:https://sicc.ch/event/sicci-leadership-lectures/
LOCATION:Mumbai\, Maharashtra
CATEGORIES:Leadership Lecture
ATTACH;FMTTYPE=image/jpeg:https://sicc.ch/wp-content/uploads/2019/05/SICC-switzerland-india-flags.jpg
END:VEVENT
END:VCALENDAR