BEGIN:VCALENDAR
VERSION:2.0
PRODID:-//SICC - ECPv5.7.1//NONSGML v1.0//EN
CALSCALE:GREGORIAN
METHOD:PUBLISH
X-ORIGINAL-URL:https://sicc.ch
X-WR-CALDESC:Events for SICC
BEGIN:VTIMEZONE
TZID:Asia/Kolkata
BEGIN:STANDARD
TZOFFSETFROM:+0530
TZOFFSETTO:+0530
TZNAME:IST
DTSTART:20220101T000000
END:STANDARD
END:VTIMEZONE
BEGIN:VEVENT
DTSTART;TZID=Asia/Kolkata:20221220T193000
DTEND;TZID=Asia/Kolkata:20221220T213000
DTSTAMP:20260420T045137
CREATED:20221201T194237Z
LAST-MODIFIED:20221201T194311Z
UID:6914-1671564600-1671571800@sicc.ch
SUMMARY:SICCI and SBHI - Networking Event
DESCRIPTION:
URL:https://sicc.ch/event/sicci-and-sbhi-networking-event/
LOCATION:Pune\, Maharashtra
CATEGORIES:Leadership Lecture
ATTACH;FMTTYPE=image/jpeg:https://sicc.ch/wp-content/uploads/2019/05/SICC-switzerland-india-flags.jpg
END:VEVENT
END:VCALENDAR