BEGIN:VCALENDAR
VERSION:2.0
PRODID:-//SICC - ECPv5.7.1//NONSGML v1.0//EN
CALSCALE:GREGORIAN
METHOD:PUBLISH
X-ORIGINAL-URL:https://sicc.ch
X-WR-CALDESC:Events for SICC
BEGIN:VTIMEZONE
TZID:UTC
BEGIN:STANDARD
TZOFFSETFROM:+0000
TZOFFSETTO:+0000
TZNAME:UTC
DTSTART:20190101T000000
END:STANDARD
END:VTIMEZONE
BEGIN:VEVENT
DTSTART;VALUE=DATE:20191115
DTEND;VALUE=DATE:20191116
DTSTAMP:20260420T002905
CREATED:20191127T105900Z
LAST-MODIFIED:20191209T173218Z
UID:3670-1573776000-1573862399@sicc.ch
SUMMARY:SICC-SBHI - Excellence in Innovation & Technology
DESCRIPTION:[vc_row][vc_column][vc_column_text]SICC- SBHI Leadership Lecture on Excellence in innovation & technology by Mr. Ashok Ramachandran\, President & CEO Schindler India Ltd.\nSICC-SBHI – Leadership Lecture in Pune[/vc_column_text][/vc_column][/vc_row]
URL:https://sicc.ch/event/sicc-sbhi-leadership-lecture-on-excellence-in-innovation-technology__trashed/
LOCATION:Pune\, Maharashtra
CATEGORIES:Leadership Lecture
ATTACH;FMTTYPE=image/jpeg:https://sicc.ch/wp-content/uploads/2019/05/SICC-switzerland-india-flags.jpg
END:VEVENT
END:VCALENDAR