BEGIN:VCALENDAR
VERSION:2.0
PRODID:-//SICC - ECPv5.7.1//NONSGML v1.0//EN
CALSCALE:GREGORIAN
METHOD:PUBLISH
X-ORIGINAL-URL:https://sicc.ch
X-WR-CALDESC:Events for SICC
BEGIN:VTIMEZONE
TZID:UTC
BEGIN:STANDARD
TZOFFSETFROM:+0000
TZOFFSETTO:+0000
TZNAME:UTC
DTSTART:20190101T000000
END:STANDARD
END:VTIMEZONE
BEGIN:VEVENT
DTSTART;VALUE=DATE:20191126
DTEND;VALUE=DATE:20191127
DTSTAMP:20260419T230834
CREATED:20191127T110046Z
LAST-MODIFIED:20191209T173043Z
UID:3671-1574726400-1574812799@sicc.ch
SUMMARY:SICC-SBHI - Excellence in Innovation & Technology
DESCRIPTION:[vc_row][vc_column][vc_column_text]SICC-SBHI Leadership Lecture on Excellence in innovation & technology by Mr. Martin Kriegner\, Region Head – Asia\, LafargeHolcim\nSICC-SBHI – Invitation – Leadership Lecture – Mumbai[/vc_column_text][/vc_column][/vc_row]
URL:https://sicc.ch/event/sicc-sbhi-leadership-lecture-on-excellence-in-innovation-technology-2/
LOCATION:Mumbai\, Maharashtra
CATEGORIES:Leadership Lecture
ATTACH;FMTTYPE=image/jpeg:https://sicc.ch/wp-content/uploads/2019/05/SICC-switzerland-india-flags.jpg
END:VEVENT
END:VCALENDAR