BEGIN:VCALENDAR
VERSION:2.0
PRODID:-//SICC - ECPv5.7.1//NONSGML v1.0//EN
CALSCALE:GREGORIAN
METHOD:PUBLISH
X-ORIGINAL-URL:https://sicc.ch
X-WR-CALDESC:Events for SICC
BEGIN:VTIMEZONE
TZID:Asia/Kolkata
BEGIN:STANDARD
TZOFFSETFROM:+0530
TZOFFSETTO:+0530
TZNAME:IST
DTSTART:20220101T000000
END:STANDARD
END:VTIMEZONE
BEGIN:VEVENT
DTSTART;TZID=Asia/Kolkata:20220923T183000
DTEND;TZID=Asia/Kolkata:20220923T213000
DTSTAMP:20260420T044922
CREATED:20220928T092707Z
LAST-MODIFIED:20220928T092734Z
UID:6827-1663957800-1663968600@sicc.ch
SUMMARY:SICC India - Networking Event
DESCRIPTION:
URL:https://sicc.ch/event/sicc-india-networking-event/
LOCATION:Mumbai\, Maharashtra
CATEGORIES:Member-to-Members
ATTACH;FMTTYPE=image/jpeg:https://sicc.ch/wp-content/uploads/2019/05/SICC-switzerland-india-flags.jpg
END:VEVENT
END:VCALENDAR