BEGIN:VCALENDAR
VERSION:2.0
PRODID:-//SICC - ECPv5.7.1//NONSGML v1.0//EN
CALSCALE:GREGORIAN
METHOD:PUBLISH
X-ORIGINAL-URL:https://sicc.ch
X-WR-CALDESC:Events for SICC
BEGIN:VTIMEZONE
TZID:UTC
BEGIN:STANDARD
TZOFFSETFROM:+0000
TZOFFSETTO:+0000
TZNAME:UTC
DTSTART:20150101T000000
END:STANDARD
END:VTIMEZONE
BEGIN:VEVENT
DTSTART;VALUE=DATE:20150512
DTEND;VALUE=DATE:20150513
DTSTAMP:20260419T213046
CREATED:20181210T063240Z
LAST-MODIFIED:20191031T073205Z
UID:2012-1431388800-1431475199@sicc.ch
SUMMARY:Seminar: SWISS INNOVATION FOR SUSTAINABILITY–THE CLEANTECH APPROACH
DESCRIPTION:Organisers: SBHI and SICC India –Pune Chapter \nPune\, Maharashtra
URL:https://sicc.ch/event/seminar-swiss-innovation-for-sustainability-the-cleantech-approach/
LOCATION:Pune\, Maharashtra
ATTACH;FMTTYPE=image/jpeg:https://sicc.ch/wp-content/uploads/2019/05/SICC-switzerland-india-flags.jpg
END:VEVENT
END:VCALENDAR