BEGIN:VCALENDAR
VERSION:2.0
PRODID:-//SICC - ECPv5.7.1//NONSGML v1.0//EN
CALSCALE:GREGORIAN
METHOD:PUBLISH
X-ORIGINAL-URL:https://sicc.ch
X-WR-CALDESC:Events for SICC
BEGIN:VTIMEZONE
TZID:Asia/Kolkata
BEGIN:STANDARD
TZOFFSETFROM:+0530
TZOFFSETTO:+0530
TZNAME:IST
DTSTART:20200101T000000
END:STANDARD
END:VTIMEZONE
BEGIN:VEVENT
DTSTART;TZID=Asia/Kolkata:20201014T160000
DTEND;TZID=Asia/Kolkata:20201014T173000
DTSTAMP:20260420T015953
CREATED:20200930T104200Z
LAST-MODIFIED:20201007T145857Z
UID:5380-1602691200-1602696600@sicc.ch
SUMMARY:Recent Updates – GST & Customs  - Impact on Business
DESCRIPTION:SICC INDIA-EBG-KPMG-Invitation – Oct 14\, 2020
URL:https://sicc.ch/event/recent-rulings-and-updates-gst-customs-duty/
CATEGORIES:Webinar
ATTACH;FMTTYPE=image/jpeg:https://sicc.ch/wp-content/uploads/2019/05/SICC-switzerland-india-flags.jpg
END:VEVENT
END:VCALENDAR