BEGIN:VCALENDAR
VERSION:2.0
PRODID:-//SICC - ECPv5.7.1//NONSGML v1.0//EN
CALSCALE:GREGORIAN
METHOD:PUBLISH
X-ORIGINAL-URL:https://sicc.ch
X-WR-CALDESC:Events for SICC
BEGIN:VTIMEZONE
TZID:Europe/Zurich
BEGIN:DAYLIGHT
TZOFFSETFROM:+0100
TZOFFSETTO:+0200
TZNAME:CEST
DTSTART:20240331T010000
END:DAYLIGHT
BEGIN:STANDARD
TZOFFSETFROM:+0200
TZOFFSETTO:+0100
TZNAME:CET
DTSTART:20241027T010000
END:STANDARD
END:VTIMEZONE
BEGIN:VEVENT
DTSTART;TZID=Europe/Zurich:20240419T160000
DTEND;TZID=Europe/Zurich:20240419T190000
DTSTAMP:20260420T032613
CREATED:20240403T081105Z
LAST-MODIFIED:20240418T100949Z
UID:7598-1713542400-1713553200@sicc.ch
SUMMARY:Panel Discussion on TEPA and with Networking Apero
DESCRIPTION:SICC invites you to toast the historic signing of the TEPA between EFTA/Switzerland and India around a first general panel discussion on “TEPA: What does it mean for Swiss business?”. \nWhen\nFriday\, April 19\, 2024\, 16.00-19.00 \nWhere\nFrame\, Lagerstrasse 104\, 8004 Zurich (10 min by foot from Zurich HB\, Exit Europaallee)\nFrame – Home of Zurich Film Festival \nKeynote Address:\nMarkus Schlagenhof\, Ambassador\, Delegate of the Federal Council for Trade Agreements \nPanel Discussion:\nPhilippe Reich\, Chairman SICC (Moderator)\nFlorin Müller\, Head Swiss Business Hub India\nLuc Schnurrenberger\, Deputy Head of International Relations\, economiesuisse\nRaoul Keller\, Secretary General\, Swissmem\nMaurice Altermatt\, Head of Economic Division\, Federation of the Swiss Watch Industry \nClosing Remarks:\nNik Gugger\, Member of National Council (MP)\, President of the Swiss-Indian Parliamentary Group\, Patron SICC \nPlease register by Friday\, April 5\, 2024 at info@sicc.ch\nRegistration Fee: CHF 50 (members) / CHF 100 (non-members) \nWe look forward to seeing you on Friday\, April 19! \nRegistration Closed!
URL:https://sicc.ch/event/panel-discussion-on-tepa-and-with-networking-apero/
CATEGORIES:Panel Discussion,SICC
ATTACH;FMTTYPE=image/jpeg:https://sicc.ch/wp-content/uploads/2024/04/Hamburg-copy-2-scaled.jpg
ORGANIZER;CN="SICC%20Switzerland":MAILTO:info@sicc.ch
END:VEVENT
END:VCALENDAR