BEGIN:VCALENDAR
VERSION:2.0
PRODID:-//SICC - ECPv5.7.1//NONSGML v1.0//EN
CALSCALE:GREGORIAN
METHOD:PUBLISH
X-ORIGINAL-URL:https://sicc.ch
X-WR-CALDESC:Events for SICC
BEGIN:VTIMEZONE
TZID:Asia/Kolkata
BEGIN:STANDARD
TZOFFSETFROM:+0530
TZOFFSETTO:+0530
TZNAME:IST
DTSTART:20200101T000000
END:STANDARD
END:VTIMEZONE
BEGIN:VEVENT
DTSTART;TZID=Asia/Kolkata:20200806T113000
DTEND;TZID=Asia/Kolkata:20200806T133000
DTSTAMP:20260420T032847
CREATED:20200804T085501Z
LAST-MODIFIED:20200804T090837Z
UID:5262-1596713400-1596720600@sicc.ch
SUMMARY:OVERVIEW OF IPR
DESCRIPTION:Please click the link below to join the Webinar:- \nEBG-SICC India-SBHI – WEBINAR – AUG 6\, 2020
URL:https://sicc.ch/event/overview-of-trademarks-protection-indian-patents-protection-and-enforcement-in-india-2/
CATEGORIES:Webinar
ATTACH;FMTTYPE=image/jpeg:https://sicc.ch/wp-content/uploads/2019/05/SICC-switzerland-india-flags.jpg
END:VEVENT
END:VCALENDAR