BEGIN:VCALENDAR
VERSION:2.0
PRODID:-//SICC - ECPv5.7.1//NONSGML v1.0//EN
CALSCALE:GREGORIAN
METHOD:PUBLISH
X-ORIGINAL-URL:https://sicc.ch
X-WR-CALDESC:Events for SICC
BEGIN:VTIMEZONE
TZID:Asia/Kolkata
BEGIN:STANDARD
TZOFFSETFROM:+0530
TZOFFSETTO:+0530
TZNAME:IST
DTSTART:20240101T000000
END:STANDARD
END:VTIMEZONE
BEGIN:VEVENT
DTSTART;TZID=Asia/Kolkata:20240830T093000
DTEND;TZID=Asia/Kolkata:20240830T193000
DTSTAMP:20260420T002822
CREATED:20241125T120924Z
LAST-MODIFIED:20241126T064404Z
UID:8561-1725010200-1725046200@sicc.ch
SUMMARY:Noida International Airport
DESCRIPTION:
URL:https://sicc.ch/event/noida-international-airport/
LOCATION:Noida International Airport\, Noida International Airport\, UP\, Noida\, India
CATEGORIES:Member-to-Members
ATTACH;FMTTYPE=image/jpeg:https://sicc.ch/wp-content/uploads/2019/05/SICC-switzerland-india-flags.jpg
END:VEVENT
END:VCALENDAR