BEGIN:VCALENDAR
VERSION:2.0
PRODID:-//SICC - ECPv5.7.1//NONSGML v1.0//EN
CALSCALE:GREGORIAN
METHOD:PUBLISH
X-ORIGINAL-URL:https://sicc.ch
X-WR-CALDESC:Events for SICC
BEGIN:VTIMEZONE
TZID:Asia/Kolkata
BEGIN:STANDARD
TZOFFSETFROM:+0530
TZOFFSETTO:+0530
TZNAME:IST
DTSTART:20250101T000000
END:STANDARD
END:VTIMEZONE
BEGIN:VEVENT
DTSTART;TZID=Asia/Kolkata:20250508T080000
DTEND;TZID=Asia/Kolkata:20250508T100000
DTSTAMP:20260420T004755
CREATED:20251001T002548Z
LAST-MODIFIED:20251001T002553Z
UID:9537-1746691200-1746698400@sicc.ch
SUMMARY:Navigating BIS Regulations to Secure Market Access in India – An Urgent Compliance
DESCRIPTION:
URL:https://sicc.ch/event/navigating-bis-regulations-to-secure-market-access-in-india-an-urgent-compliance/
CATEGORIES:Member-to-Members
ATTACH;FMTTYPE=image/jpeg:https://sicc.ch/wp-content/uploads/2019/05/SICC-switzerland-india-flags.jpg
END:VEVENT
END:VCALENDAR