BEGIN:VCALENDAR
VERSION:2.0
PRODID:-//SICC - ECPv5.7.1//NONSGML v1.0//EN
CALSCALE:GREGORIAN
METHOD:PUBLISH
X-ORIGINAL-URL:https://sicc.ch
X-WR-CALDESC:Events for SICC
BEGIN:VTIMEZONE
TZID:Asia/Kolkata
BEGIN:STANDARD
TZOFFSETFROM:+0530
TZOFFSETTO:+0530
TZNAME:IST
DTSTART:20200101T000000
END:STANDARD
END:VTIMEZONE
BEGIN:VEVENT
DTSTART;TZID=Asia/Kolkata:20200721T163000
DTEND;TZID=Asia/Kolkata:20200721T173000
DTSTAMP:20260420T030824
CREATED:20200716T105350Z
LAST-MODIFIED:20200718T040102Z
UID:5220-1595349000-1595352600@sicc.ch
SUMMARY:Managing in a crisis
DESCRIPTION:Talk By : Mr. Suresh Narayan (Chairman and Managing Director\, Nestle India Limited) \nTuesday\, 21 July\, 2020 | 4:30 PM – 5:30 PM (IST) \nSICC INDIA – WEBINAR – JULY 21\, 2020
URL:https://sicc.ch/event/managing-in-a-crisis/
LOCATION:Online Webinar
ATTACH;FMTTYPE=image/jpeg:https://sicc.ch/wp-content/uploads/2020/07/SICC_MIAC-webinar-event-210720.jpg
END:VEVENT
END:VCALENDAR