BEGIN:VCALENDAR
VERSION:2.0
PRODID:-//SICC - ECPv5.7.1//NONSGML v1.0//EN
CALSCALE:GREGORIAN
METHOD:PUBLISH
X-ORIGINAL-URL:https://sicc.ch
X-WR-CALDESC:Events for SICC
BEGIN:VTIMEZONE
TZID:Europe/Zurich
BEGIN:DAYLIGHT
TZOFFSETFROM:+0100
TZOFFSETTO:+0200
TZNAME:CEST
DTSTART:20240331T010000
END:DAYLIGHT
BEGIN:STANDARD
TZOFFSETFROM:+0200
TZOFFSETTO:+0100
TZNAME:CET
DTSTART:20241027T010000
END:STANDARD
END:VTIMEZONE
BEGIN:VEVENT
DTSTART;TZID=Europe/Zurich:20241220T110000
DTEND;TZID=Europe/Zurich:20241220T143000
DTSTAMP:20260419T230550
CREATED:20241226T142921Z
LAST-MODIFIED:20241227T051445Z
UID:8691-1734692400-1734705000@sicc.ch
SUMMARY:A Glimpse into Innovation and Sustainability.
DESCRIPTION:
URL:https://sicc.ch/event/lps-bossard-india/
LOCATION:Rohtak\, Haryana\, Rohtak\, Haryana\, 124001\, India
CATEGORIES:Member-to-Members
ATTACH;FMTTYPE=image/jpeg:https://sicc.ch/wp-content/uploads/2019/05/SICC-switzerland-india-flags.jpg
END:VEVENT
END:VCALENDAR