BEGIN:VCALENDAR
VERSION:2.0
PRODID:-//SICC - ECPv5.7.1//NONSGML v1.0//EN
CALSCALE:GREGORIAN
METHOD:PUBLISH
X-ORIGINAL-URL:https://sicc.ch
X-WR-CALDESC:Events for SICC
BEGIN:VTIMEZONE
TZID:Asia/Kolkata
BEGIN:STANDARD
TZOFFSETFROM:+0530
TZOFFSETTO:+0530
TZNAME:IST
DTSTART:20240101T000000
END:STANDARD
END:VTIMEZONE
BEGIN:VEVENT
DTSTART;TZID=Asia/Kolkata:20240405T183000
DTEND;TZID=Asia/Kolkata:20240405T213000
DTSTAMP:20260420T032755
CREATED:20240409T050108Z
LAST-MODIFIED:20240409T051548Z
UID:7607-1712341800-1712352600@sicc.ch
SUMMARY:Localising Your Supply Chain in India: Key Challenges and Opportunities
DESCRIPTION:  We are excited to invite you to an insightful session on “Localising Your Supply Chain in India: Key Challenges and Opportunities” In today’s dynamic economic landscape\, navigating through India’s evolving regulatory changes and global scenarios presents both challenges and opportunities for businesses. This session aims to delve into various aspects\, including: \n\nOpportunities in the Global Value Chain\nIndia’s evolving role in your Global Value Chain\nCustomizing your Localization Strategy\nChallenges and Risks associated with Localization\n\nThe event will also Panel Discussion from the industry experts who will share their valuable insights.
URL:https://sicc.ch/event/localising-your-supply-chain-in-india-key-challenges-and-opportunities/
LOCATION:Sofitel BKC Mumbai\, C 57 Bandra Kurla Complex\, Bandra East\,\, Mumbai\, Maharashtra\, 400051\, India
ATTACH;FMTTYPE=image/jpeg:https://sicc.ch/wp-content/uploads/2019/05/SICC-switzerland-india-flags.jpg
END:VEVENT
END:VCALENDAR