BEGIN:VCALENDAR
VERSION:2.0
PRODID:-//SICC - ECPv5.7.1//NONSGML v1.0//EN
CALSCALE:GREGORIAN
METHOD:PUBLISH
X-ORIGINAL-URL:https://sicc.ch
X-WR-CALDESC:Events for SICC
BEGIN:VTIMEZONE
TZID:Europe/Zurich
BEGIN:DAYLIGHT
TZOFFSETFROM:+0100
TZOFFSETTO:+0200
TZNAME:CEST
DTSTART:20180325T010000
END:DAYLIGHT
BEGIN:STANDARD
TZOFFSETFROM:+0200
TZOFFSETTO:+0100
TZNAME:CET
DTSTART:20181028T010000
END:STANDARD
END:VTIMEZONE
BEGIN:VEVENT
DTSTART;VALUE=DATE:20181030
DTEND;VALUE=DATE:20181031
DTSTAMP:20260419T231123
CREATED:20190626T132235Z
LAST-MODIFIED:20191127T112422Z
UID:3691-1540857600-1540943999@sicc.ch
SUMMARY:Leadership Lecture "Technological Excellence – the Swiss Indian Business Connect”
DESCRIPTION:Leadership Lecture “Technological Excellence – the Swiss Indian Business Connect” \nGuest Speaker – Mr. Milan Paleja\, Vice Chairman & MD\, Novartis India \nGuests of Honour – Mr. Florin Muller\, First Secretary\, Head of Economic & Commercial Section\, Embassy of Switzerland and Mr. Sebastien Hug\, Consul General of Switzerland in Bangalore \nOrganiser: SICC-SBHI \nBangalore\, Karnataka \nRSVP: darshana.siccindia@gmail.com
URL:https://sicc.ch/event/leadership-lecture-technological-excellence-the-swiss-indian-business-connect-4/
LOCATION:banglore\, banglore\, India
ATTACH;FMTTYPE=image/jpeg:https://sicc.ch/wp-content/uploads/2019/05/SICC-switzerland-india-flags.jpg
END:VEVENT
END:VCALENDAR