BEGIN:VCALENDAR
VERSION:2.0
PRODID:-//SICC - ECPv5.7.1//NONSGML v1.0//EN
CALSCALE:GREGORIAN
METHOD:PUBLISH
X-ORIGINAL-URL:https://sicc.ch
X-WR-CALDESC:Events for SICC
BEGIN:VTIMEZONE
TZID:Asia/Kolkata
BEGIN:STANDARD
TZOFFSETFROM:+0530
TZOFFSETTO:+0530
TZNAME:IST
DTSTART:20220101T000000
END:STANDARD
END:VTIMEZONE
BEGIN:VEVENT
DTSTART;TZID=Asia/Kolkata:20221010T183000
DTEND;TZID=Asia/Kolkata:20221010T210000
DTSTAMP:20260420T015204
CREATED:20220928T092226Z
LAST-MODIFIED:20220928T092315Z
UID:6822-1665426600-1665435600@sicc.ch
SUMMARY:Leadership Lecture on Writing the Future with Sustainability & Industry 5.0 Technology by Mr. Sanjeev Sharma\, CMD\, ABB India
DESCRIPTION:
URL:https://sicc.ch/event/leadership-lecture-on-writing-the-future-with-sustainability-industry-5-0-technology-by-mr-sanjeev-sharma-cmd-abb-india/
LOCATION:Bangalore\, Karnataka\, Bangalore\, Karnataka\, India
CATEGORIES:Leadership Lecture
ATTACH;FMTTYPE=image/jpeg:https://sicc.ch/wp-content/uploads/2019/05/SICC-switzerland-india-flags.jpg
END:VEVENT
END:VCALENDAR