BEGIN:VCALENDAR
VERSION:2.0
PRODID:-//SICC - ECPv5.7.1//NONSGML v1.0//EN
CALSCALE:GREGORIAN
METHOD:PUBLISH
X-ORIGINAL-URL:https://sicc.ch
X-WR-CALDESC:Events for SICC
BEGIN:VTIMEZONE
TZID:Asia/Kolkata
BEGIN:STANDARD
TZOFFSETFROM:+0530
TZOFFSETTO:+0530
TZNAME:IST
DTSTART:20230101T000000
END:STANDARD
END:VTIMEZONE
BEGIN:VEVENT
DTSTART;TZID=Asia/Kolkata:20231219T180000
DTEND;TZID=Asia/Kolkata:20231219T200000
DTSTAMP:20260420T020404
CREATED:20231123T061648Z
LAST-MODIFIED:20231123T061720Z
UID:7462-1703008800-1703016000@sicc.ch
SUMMARY:Leadership & Innovation Session
DESCRIPTION:
URL:https://sicc.ch/event/leadership-innovation-session/
CATEGORIES:Leadership Lecture
ATTACH;FMTTYPE=image/jpeg:https://sicc.ch/wp-content/uploads/2019/05/SICC-switzerland-india-flags.jpg
END:VEVENT
END:VCALENDAR