BEGIN:VCALENDAR
VERSION:2.0
PRODID:-//SICC - ECPv5.7.1//NONSGML v1.0//EN
CALSCALE:GREGORIAN
METHOD:PUBLISH
X-ORIGINAL-URL:https://sicc.ch
X-WR-CALDESC:Events for SICC
BEGIN:VTIMEZONE
TZID:Asia/Kolkata
BEGIN:STANDARD
TZOFFSETFROM:+0530
TZOFFSETTO:+0530
TZNAME:IST
DTSTART:20230101T000000
END:STANDARD
END:VTIMEZONE
BEGIN:VEVENT
DTSTART;TZID=Asia/Kolkata:20231208T180000
DTEND;TZID=Asia/Kolkata:20231208T200000
DTSTAMP:20260420T032612
CREATED:20231117T113213Z
LAST-MODIFIED:20231130T083305Z
UID:7451-1702058400-1702065600@sicc.ch
SUMMARY:Launch of SICC Kolkata Chapter
DESCRIPTION:
URL:https://sicc.ch/event/launch-of-sicc-kolkata-chapter/
CATEGORIES:SICC Flagship Event
ATTACH;FMTTYPE=image/jpeg:https://sicc.ch/wp-content/uploads/2019/05/SICC-switzerland-india-flags.jpg
END:VEVENT
END:VCALENDAR