BEGIN:VCALENDAR
VERSION:2.0
PRODID:-//SICC - ECPv5.7.1//NONSGML v1.0//EN
CALSCALE:GREGORIAN
METHOD:PUBLISH
X-ORIGINAL-URL:https://sicc.ch
X-WR-CALDESC:Events for SICC
BEGIN:VTIMEZONE
TZID:Asia/Kolkata
BEGIN:STANDARD
TZOFFSETFROM:+0530
TZOFFSETTO:+0530
TZNAME:IST
DTSTART:20220101T000000
END:STANDARD
END:VTIMEZONE
BEGIN:VEVENT
DTSTART;TZID=Asia/Kolkata:20220630T160000
DTEND;TZID=Asia/Kolkata:20220630T173000
DTSTAMP:20260420T045405
CREATED:20220614T105540Z
LAST-MODIFIED:20220627T021923Z
UID:6686-1656604800-1656610200@sicc.ch
SUMMARY:WEBINAR - VALUE CHAIN DUE DILIGENCE IN INDIA
DESCRIPTION:WEBINAR – VALUE CHAIN DUE DILIGENCE IN INDIA 30 JUNE 2022\, 16:00-17:30 IST/12:30-14:00 CEST  \nWebinar-Invitation & Agenda-June 30\, 2022 \nREGISTRATION Please feel free to share this invitation with colleagues who may be interested. You can register to attend the webinar here. CLICK HERE After registering\, you will receive a confirmation email containing information about joining the webinar.  
URL:https://sicc.ch/event/invitation-to-participate-in-a-webinar-on-value-chain-due-diligence-in-india/
CATEGORIES:Webinar
ATTACH;FMTTYPE=image/jpeg:https://sicc.ch/wp-content/uploads/2019/05/SICC-switzerland-india-flags.jpg
END:VEVENT
END:VCALENDAR