BEGIN:VCALENDAR
VERSION:2.0
PRODID:-//SICC - ECPv5.7.1//NONSGML v1.0//EN
CALSCALE:GREGORIAN
METHOD:PUBLISH
X-ORIGINAL-URL:https://sicc.ch
X-WR-CALDESC:Events for SICC
BEGIN:VTIMEZONE
TZID:Asia/Kolkata
BEGIN:STANDARD
TZOFFSETFROM:+0530
TZOFFSETTO:+0530
TZNAME:IST
DTSTART:20210101T000000
END:STANDARD
END:VTIMEZONE
BEGIN:VEVENT
DTSTART;TZID=Asia/Kolkata:20210726T180000
DTEND;TZID=Asia/Kolkata:20210726T193000
DTSTAMP:20260420T045353
CREATED:20210715T112707Z
LAST-MODIFIED:20210715T112934Z
UID:5928-1627322400-1627327800@sicc.ch
SUMMARY:Interact with Mr. Iqbal Singh Chahal\, IAS\, Commissioner\, MCGM
DESCRIPTION:July 26th Invitation Webinar – Meet BMC Commissioner
URL:https://sicc.ch/event/interact-with-mr-iqbal-singh-chahal-ias-commissioner-mcgm/
CATEGORIES:Webinar
ATTACH;FMTTYPE=image/jpeg:https://sicc.ch/wp-content/uploads/2019/05/SICC-switzerland-india-flags.jpg
END:VEVENT
END:VCALENDAR