BEGIN:VCALENDAR
VERSION:2.0
PRODID:-//SICC - ECPv5.7.1//NONSGML v1.0//EN
CALSCALE:GREGORIAN
METHOD:PUBLISH
X-ORIGINAL-URL:https://sicc.ch
X-WR-CALDESC:Events for SICC
BEGIN:VTIMEZONE
TZID:Asia/Kolkata
BEGIN:STANDARD
TZOFFSETFROM:+0530
TZOFFSETTO:+0530
TZNAME:IST
DTSTART:20240101T000000
END:STANDARD
END:VTIMEZONE
BEGIN:VEVENT
DTSTART;TZID=Asia/Kolkata:20240409T160000
DTEND;TZID=Asia/Kolkata:20240409T170000
DTSTAMP:20260420T020734
CREATED:20240409T061200Z
LAST-MODIFIED:20240409T061202Z
UID:7636-1712678400-1712682000@sicc.ch
SUMMARY:Indian Transfer Pricing Landscape: Managing Tax Risks and Dispute Resolution Strategies
DESCRIPTION:We are pleased to extend an invite for an insightful webinar on “Indian Transfer Pricing Landscape: Managing Tax Risks and Dispute Resolution Strategies\,” \n\nThis webinar aims to provide a comprehensive understanding of the evolving Transfer Pricing (TP) landscape in India and equip participants with practical approaches to effectively manage TP disputes.\n\nDate: Tuesday\, 9th April 2024\n\nTime: 4:00 PM to 5:00 PM (IST)\n\nTopic: Indian Transfer Pricing Landscape: Managing Tax Risks and Dispute Resolution Strategies\n\nSpeaker: Amitava Sen\, Partner at Price Waterhouse & Co. LLP (PWC). He is a distinguished expert in the field of Indian Transfer Pricing with over 21 years of experience. He brings invaluable insights gained from managing a wide range of TP assignments and navigating complex TP issues for a diverse clientele. His expertise spans supply chain planning\, documentation\, dispute resolution\, and more.
URL:https://sicc.ch/event/indian-transfer-pricing-landscape-managing-tax-risks-and-dispute-resolution-strategies-2/
CATEGORIES:Member-to-Members,Webinar
ATTACH;FMTTYPE=image/jpeg:https://sicc.ch/wp-content/uploads/2019/05/SICC-switzerland-india-flags.jpg
END:VEVENT
END:VCALENDAR