BEGIN:VCALENDAR
VERSION:2.0
PRODID:-//SICC - ECPv5.7.1//NONSGML v1.0//EN
CALSCALE:GREGORIAN
METHOD:PUBLISH
X-ORIGINAL-URL:https://sicc.ch
X-WR-CALDESC:Events for SICC
BEGIN:VTIMEZONE
TZID:Asia/Kolkata
BEGIN:STANDARD
TZOFFSETFROM:+0530
TZOFFSETTO:+0530
TZNAME:IST
DTSTART:20240101T000000
END:STANDARD
END:VTIMEZONE
BEGIN:VEVENT
DTSTART;TZID=Asia/Kolkata:20240203T180000
DTEND;TZID=Asia/Kolkata:20240204T140000
DTSTAMP:20260420T020846
CREATED:20240103T091645Z
LAST-MODIFIED:20240103T094926Z
UID:7520-1706983200-1707055200@sicc.ch
SUMMARY:Inaugural Swiss India Golf Tournament – 3rd and 4th February 2024\, Mysore
DESCRIPTION:“Swiss India Golf Tournament\,” a unique sporting event organized in collaboration with Schevaran\, India\, and Cleanfix\, Switzerland scheduled on the 3rd and 4th of February 2024 in the picturesque city of Mysore. \nWhile Schevaran\, India and Cleanfix\, Switzerland initiatives and investments are in the areas of Environmental\, Social and Governance to create positive impact both within the businesses and those of customers\, SICC also aligns with their thought of commitment to sustainable practices that will contribute to safeguarding the environment for future generations.  And to celebrate this commitment to the environment and to enjoy a time of fellowship out in the open\, we invite you to join us for this event. Further\, we also believe that Golf is a sport that embodies discipline\, precision\, and strategic thinking\, making it a valuable pursuit for both players and spectators alike. \nTo kick off the event\, we have planned a celebratory networking dinner on the evening of the 3rd February. This will be a fantastic opportunity for our community to connect and build relationships before the tournament kicks off. For those who may not play\, we encourage you to join us in cheering for our fellow members during the award ceremony. \nPlease find below the details of the event \n\nDate: Saturday\, 3rd February\, 2024\nVenue: Mysore Race Club\, Mysore\nTime: 18.00hrs onwards | Networking Dinner \n\n\nDate: Sunday\,.4th February\, 2024\nVenue: Jaya Chamaraja Wadiar Golf Club\, Mysore\nTime: 07.00-12.00hrs | Golf Tournament (for golfers)\nTime: 08.00-12.00hrs |Local sightseeing -Mysore Palace\, Vrindavan Gardens (for non-golfers)\nTime: 13.00 onwards |Prize Distribution Ceremony\, followed by Lunch\n\n 
URL:https://sicc.ch/event/inaugural-swiss-india-golf-tournament-3rd-and-4th-february-2024-mysore/
CATEGORIES:Member-to-Members
ATTACH;FMTTYPE=image/jpeg:https://sicc.ch/wp-content/uploads/2019/05/SICC-switzerland-india-flags.jpg
END:VEVENT
END:VCALENDAR