BEGIN:VCALENDAR
VERSION:2.0
PRODID:-//SICC - ECPv5.7.1//NONSGML v1.0//EN
CALSCALE:GREGORIAN
METHOD:PUBLISH
X-ORIGINAL-URL:https://sicc.ch
X-WR-CALDESC:Events for SICC
BEGIN:VTIMEZONE
TZID:Asia/Kolkata
BEGIN:STANDARD
TZOFFSETFROM:+0530
TZOFFSETTO:+0530
TZNAME:IST
DTSTART:20210101T000000
END:STANDARD
END:VTIMEZONE
BEGIN:VEVENT
DTSTART;TZID=Asia/Kolkata:20211008T160000
DTEND;TZID=Asia/Kolkata:20211008T173000
DTSTAMP:20260420T063316
CREATED:20210930T103025Z
LAST-MODIFIED:20210930T104118Z
UID:6099-1633708800-1633714200@sicc.ch
SUMMARY:How the EU and Swiss businesses can leverage trademark protection and enforcement in India
DESCRIPTION:Greetings from Swiss-Indian Chamber of Commerce India. \nYou are invited to attend our exclusive webinar presentation on “How the EU and Swiss businesses can leverage trademark protection and enforcement in India”.  \nTrademarks and brands are important parts of intellectual property rights (IPR). India is a preferred destination for Foreign Direct Investments (FDI). Along with this\, foreign brands are more and more present in India. With this\, infringements of trademark-protected products and services increase. For European and Swiss businesses that operate in the Indian market or plan to enter it\, it is essential to be aware of trademark protection. \nThe Embassy of Switzerland\, together with the European Business and Technology Center (EBTC)\, in association with Swiss-Indian Chamber of Commerce in India (SICCI) and knowledge partners Anand and Anand\, K&S Partners (experts in Trademark\, Intellectual Property Laws)\, is organizing a virtual panel discussion to exchange best practices on the issue.   \nThe webinar aims to explore whether it is necessary for a European / Swiss business to register a trademark in India\,  what are the legal  measures against trademark infringement or counterfeiting or how does the Indian Customs Authority help the trademark holders in enforcing their IPR? These and many other questions will be discussed by legal experts and industry representatives. The goal is to provide concrete guidance on trademark protection and enforcement in India. \nRegistration Link – https://us06web.zoom.us/webinar/register/WN_zoDKA5QOSH61th2RY4GEtw \nA line confirming your participation would be appreciated. \nWe are looking forward to your participation.
URL:https://sicc.ch/event/how-the-eu-and-swiss-businesses-can-leverage-trademark-protection-and-enforcement-in-india/
CATEGORIES:Webinar
ATTACH;FMTTYPE=image/jpeg:https://sicc.ch/wp-content/uploads/2019/05/SICC-switzerland-india-flags.jpg
END:VEVENT
END:VCALENDAR