BEGIN:VCALENDAR
VERSION:2.0
PRODID:-//SICC - ECPv5.7.1//NONSGML v1.0//EN
CALSCALE:GREGORIAN
METHOD:PUBLISH
X-ORIGINAL-URL:https://sicc.ch
X-WR-CALDESC:Events for SICC
BEGIN:VTIMEZONE
TZID:Asia/Kolkata
BEGIN:STANDARD
TZOFFSETFROM:+0530
TZOFFSETTO:+0530
TZNAME:IST
DTSTART:20200101T000000
END:STANDARD
END:VTIMEZONE
BEGIN:VEVENT
DTSTART;TZID=Asia/Kolkata:20200521T180000
DTEND;TZID=Asia/Kolkata:20200521T190000
DTSTAMP:20260420T003537
CREATED:20200519T195306Z
LAST-MODIFIED:20200520T083847Z
UID:4945-1590084000-1590087600@sicc.ch
SUMMARY:Health and Wellness
DESCRIPTION:We are all facing a challenge we have never experienced before in our life. i.e. COVID -19 pandemic. All the efforts being taken at all levels – to contain the spread of virus infection and improve the diagnostics and treatment facilities across country. \nJoin the experts from NM Medical\, Novartis\, and Roche to get a general understanding of proactively managing your health and resuming work in the current situation. Also learn about testing strategies and potential treatment options \n\n\n\n\n1. 2. 3. \n\n\nPanelists for the webinar Dr. Rahil Shah (Managing Director\, NM Medical) \nDr. Pankaj Gupta (Chief Scientific Officer\, Novartis Healthcare Pvt Ltd)\nDr. Sandeep Sewlikar (Head – Medical and Scientific Affairs\, Roche Diagnostics India) \nMeeting Link: https://roche.zoom.us/j/96008452185 or click : https://roche.zoom.us/j/96008452185 \nMeeting ID: 960 0845 2185 Password: 496056 \n\n\n\n\nFor details\, please contact Ms Darshana Thaker – 8879010160 \n\n\n\n\n 
URL:https://sicc.ch/event/health-and-wellness/
LOCATION:Webinar\, India
CATEGORIES:Webinar
ATTACH;FMTTYPE=image/png:https://sicc.ch/wp-content/uploads/2020/05/SICC-Webinar_21-May-2020.png
END:VEVENT
END:VCALENDAR