BEGIN:VCALENDAR
VERSION:2.0
PRODID:-//SICC - ECPv5.7.1//NONSGML v1.0//EN
CALSCALE:GREGORIAN
METHOD:PUBLISH
X-ORIGINAL-URL:https://sicc.ch
X-WR-CALDESC:Events for SICC
BEGIN:VTIMEZONE
TZID:Asia/Kolkata
BEGIN:STANDARD
TZOFFSETFROM:+0530
TZOFFSETTO:+0530
TZNAME:IST
DTSTART:20210101T000000
END:STANDARD
END:VTIMEZONE
BEGIN:VEVENT
DTSTART;TZID=Asia/Kolkata:20210928T100000
DTEND;TZID=Asia/Kolkata:20210930T180000
DTSTAMP:20260420T062036
CREATED:20210930T102919Z
LAST-MODIFIED:20210930T102921Z
UID:6095-1632823200-1633024800@sicc.ch
SUMMARY:Global Fintech Fest 2021
DESCRIPTION:
URL:https://sicc.ch/event/global-fintech-fest-2021/
CATEGORIES:Conference/Seminar,Webinar
ATTACH;FMTTYPE=image/jpeg:https://sicc.ch/wp-content/uploads/2019/05/SICC-switzerland-india-flags.jpg
END:VEVENT
END:VCALENDAR