BEGIN:VCALENDAR
VERSION:2.0
PRODID:-//SICC - ECPv5.7.1//NONSGML v1.0//EN
CALSCALE:GREGORIAN
METHOD:PUBLISH
X-ORIGINAL-URL:https://sicc.ch
X-WR-CALDESC:Events for SICC
BEGIN:VTIMEZONE
TZID:Asia/Kolkata
BEGIN:STANDARD
TZOFFSETFROM:+0530
TZOFFSETTO:+0530
TZNAME:IST
DTSTART:20230101T000000
END:STANDARD
END:VTIMEZONE
BEGIN:VEVENT
DTSTART;TZID=Asia/Kolkata:20230808T090000
DTEND;TZID=Asia/Kolkata:20230808T123000
DTSTAMP:20260420T014959
CREATED:20230911T083628Z
LAST-MODIFIED:20230911T083630Z
UID:7316-1691485200-1691497800@sicc.ch
SUMMARY:GBI Workshop on Human Rights
DESCRIPTION:The Global Business Initiative on Human Rights (GBI) is pleased to invite business practitioners to a workshop on conducting human rights due diligence in supply chains in India. Please find below the details of the workshop: \n\nDate: Tuesday\, 8th August\, 2023\n\nTime: 9am to 12pm\n\nVenue: At the Swiss Residence\, Mumbai\n\nThe workshop is supported by the Consulate General of Switzerland in Mumbai and held in collaboration with the Swiss-Indian Chamber of Commerce India.\n\nPlease note\, at this stage\, we are only collecting registrations of interest in attending the Workshop.\n\n The Formal invitation including the agenda\, will be sent by the Swiss Consulate General\, to the REGISTERED PARTCIPANTS ONLY. So please share the nominee/registration details here.\n\nSession objectives:\n\n 	Provide an update on global legal developments on human rights due diligence\n 	Understand best practices in engaging suppliers\n 	Explore challenges related to conducting human rights due diligence beyond auditing and getting beyondTier 1\n\nThe session will explore going beyond auditing practices in the context of human rights due diligence\, as well as engaging deeper in the supply chain.\n\nWhy participate in this workshop?\n\nIncreasingly\, conducting human rights due diligence on a business’ operations and activities\, including their supply chain\, is becoming a matter of legal compliance. Globally\, legislation is requiring companies to either report on or actually conduct human rights due diligence on their supply chains:\n\nWho should attend this workshop?\n\nWhile Managing Directors and CEOs are encouraged to attend this workshop\, we would also like you to reach out to your colleagues in Procurement or Legal/Compliance functions to attend this workshop.\n\nPlease let us know your interests.\n\n 
URL:https://sicc.ch/event/gbi-workshop-on-human-rights/
CATEGORIES:Key Note Presentation
ATTACH;FMTTYPE=image/jpeg:https://sicc.ch/wp-content/uploads/2019/05/SICC-switzerland-india-flags.jpg
END:VEVENT
END:VCALENDAR