BEGIN:VCALENDAR
VERSION:2.0
PRODID:-//SICC - ECPv5.7.1//NONSGML v1.0//EN
CALSCALE:GREGORIAN
METHOD:PUBLISH
X-ORIGINAL-URL:https://sicc.ch
X-WR-CALDESC:Events for SICC
BEGIN:VTIMEZONE
TZID:Asia/Kolkata
BEGIN:STANDARD
TZOFFSETFROM:+0530
TZOFFSETTO:+0530
TZNAME:IST
DTSTART:20230101T000000
END:STANDARD
END:VTIMEZONE
BEGIN:VEVENT
DTSTART;TZID=Asia/Kolkata:20230810T140000
DTEND;TZID=Asia/Kolkata:20230810T170000
DTSTAMP:20260420T031038
CREATED:20230911T084447Z
LAST-MODIFIED:20230911T084513Z
UID:7325-1691676000-1691686800@sicc.ch
SUMMARY:GBI Workshop on Human Rights
DESCRIPTION:The Global Business Initiative on Human Rights (GBI) is pleased to invite business practitioners to a workshop on conducting human rights due diligence in supply chains in India. Please find below the details of the workshop:\n\nDate: Thursday\, 10th August\, 2023\n\nTime: 2:00pm to 5:00pm\n\nVenue: Swissnex in India\, Consulate General of Switzerland\, Bangalore\n\nThe workshop is supported by the Swiss Embassy in India and a networking reception will follow the workshop at the Swissnex in India\, Consulate General of Switzerland. The workshop is held in collaboration with the Swiss-Indian Chamber of Commerce India.\n\n Session objectives:\n\n 	Provide an update on global legal developments on human rights due diligence\n 	Understand best practices in engaging suppliers\n 	Explore challenges related to conducting human rights due diligence beyond auditing and getting beyondTier 1\n\nThe session will explore going beyond auditing practices in the context of human rights due diligence\, as well as engaging deeper in the supply chain.\n\nWhy participate in this workshop?\n\nIncreasingly\, conducting human rights due diligence on a business’ operations and activities\, including their supply chain\, is becoming a matter of legal compliance. Globally\, legislation is requiring companies to either report on or actually conduct human rights due diligence on their supply chains:\n\nWho should attend this workshop?\n\nWhile Managing Directors and CEOs are encouraged to attend this workshop\, we would also like you to reach out to your colleagues in Procurement or Legal/Compliance functions to attend this workshop. There is no charge for attendance.\n\nPlease let us know your interests.
URL:https://sicc.ch/event/gbi-workshop-on-human-rights-2/
CATEGORIES:Key Note Presentation
ATTACH;FMTTYPE=image/jpeg:https://sicc.ch/wp-content/uploads/2019/05/SICC-switzerland-india-flags.jpg
END:VEVENT
END:VCALENDAR