BEGIN:VCALENDAR
VERSION:2.0
PRODID:-//SICC - ECPv5.7.1//NONSGML v1.0//EN
CALSCALE:GREGORIAN
METHOD:PUBLISH
X-ORIGINAL-URL:https://sicc.ch
X-WR-CALDESC:Events for SICC
BEGIN:VTIMEZONE
TZID:Asia/Kolkata
BEGIN:STANDARD
TZOFFSETFROM:+0530
TZOFFSETTO:+0530
TZNAME:IST
DTSTART:20240101T000000
END:STANDARD
END:VTIMEZONE
BEGIN:VEVENT
DTSTART;TZID=Asia/Kolkata:20240425T080000
DTEND;TZID=Asia/Kolkata:20240425T103000
DTSTAMP:20260420T004503
CREATED:20240415T122748Z
LAST-MODIFIED:20240415T122748Z
UID:7631-1714032000-1714041000@sicc.ch
SUMMARY:Fireside Chat with Dr. Michael Süss-Chairman of Oerlikon
DESCRIPTION:An exclusive fireside chat featuring Dr. Michael Süss- Executive Chairman of the Board of Directors at Oerlikon a distinguished leader in the industry. \nDuring this fireside chat\, you will have the chance to engage in a candid conversation with Dr. Süss\, discussing topics ranging from market opportunities and challenges to innovation and corporate leadership. Whether you are an industry veteran or a young professional looking to expand your horizons\, this event promises to offer valuable insights and networking opportunities. \nPlease find the invite below:
URL:https://sicc.ch/event/fireside-chat-with-dr-michael-suss-chairman-of-oerlikon-2/
LOCATION:Hyatt Regency Pune & Residences\, Weikfield It Park Nagar Road\,\, Pune\, Maharashtra\,\, 411014\, India
CATEGORIES:Member-to-Members
ATTACH;FMTTYPE=image/jpeg:https://sicc.ch/wp-content/uploads/2019/05/SICC-switzerland-india-flags.jpg
END:VEVENT
END:VCALENDAR