BEGIN:VCALENDAR
VERSION:2.0
PRODID:-//SICC - ECPv5.7.1//NONSGML v1.0//EN
CALSCALE:GREGORIAN
METHOD:PUBLISH
X-ORIGINAL-URL:https://sicc.ch
X-WR-CALDESC:Events for SICC
BEGIN:VTIMEZONE
TZID:Asia/Kolkata
BEGIN:STANDARD
TZOFFSETFROM:+0530
TZOFFSETTO:+0530
TZNAME:IST
DTSTART:20210101T000000
END:STANDARD
END:VTIMEZONE
BEGIN:VEVENT
DTSTART;TZID=Asia/Kolkata:20210827T160000
DTEND;TZID=Asia/Kolkata:20210827T170000
DTSTAMP:20260420T045405
CREATED:20210930T101104Z
LAST-MODIFIED:20210930T103700Z
UID:6082-1630080000-1630083600@sicc.ch
SUMMARY:Farewell of Sebastien and Welcome to Jonas
DESCRIPTION:
URL:https://sicc.ch/event/farewell-of-sebastien-and-welcome-to-jonas/
CATEGORIES:Webinar
ATTACH;FMTTYPE=image/jpeg:https://sicc.ch/wp-content/uploads/2019/05/SICC-switzerland-india-flags.jpg
END:VEVENT
END:VCALENDAR