BEGIN:VCALENDAR
VERSION:2.0
PRODID:-//SICC - ECPv5.7.1//NONSGML v1.0//EN
CALSCALE:GREGORIAN
METHOD:PUBLISH
X-ORIGINAL-URL:https://sicc.ch
X-WR-CALDESC:Events for SICC
BEGIN:VTIMEZONE
TZID:Europe/Zurich
BEGIN:DAYLIGHT
TZOFFSETFROM:+0100
TZOFFSETTO:+0200
TZNAME:CEST
DTSTART:20240331T010000
END:DAYLIGHT
BEGIN:STANDARD
TZOFFSETFROM:+0200
TZOFFSETTO:+0100
TZNAME:CET
DTSTART:20241027T010000
END:STANDARD
END:VTIMEZONE
BEGIN:VEVENT
DTSTART;TZID=Europe/Zurich:20241210T170000
DTEND;TZID=Europe/Zurich:20241210T193000
DTSTAMP:20260419T231037
CREATED:20241217T113200Z
LAST-MODIFIED:20241218T060406Z
UID:8684-1733850000-1733859000@sicc.ch
SUMMARY:Driving the Future: Sustainability\, Economic Growth\, and ESG Leadership
DESCRIPTION:
URL:https://sicc.ch/event/driving-the-future-sustainability-economic-growth-and-esg-leadership/
LOCATION:Kolkata\, Kolkata\, India
CATEGORIES:Member-to-Members
ATTACH;FMTTYPE=image/jpeg:https://sicc.ch/wp-content/uploads/2019/05/SICC-switzerland-india-flags.jpg
END:VEVENT
END:VCALENDAR