BEGIN:VCALENDAR
VERSION:2.0
PRODID:-//SICC - ECPv5.7.1//NONSGML v1.0//EN
CALSCALE:GREGORIAN
METHOD:PUBLISH
X-ORIGINAL-URL:https://sicc.ch
X-WR-CALDESC:Events for SICC
BEGIN:VTIMEZONE
TZID:Asia/Kolkata
BEGIN:STANDARD
TZOFFSETFROM:+0530
TZOFFSETTO:+0530
TZNAME:IST
DTSTART:20230101T000000
END:STANDARD
END:VTIMEZONE
BEGIN:VEVENT
DTSTART;TZID=Asia/Kolkata:20230531T190000
DTEND;TZID=Asia/Kolkata:20230531T200000
DTSTAMP:20260420T032615
CREATED:20230911T070355Z
LAST-MODIFIED:20230911T074227Z
UID:7300-1685559600-1685563200@sicc.ch
SUMMARY:Dinner reception with Ambassador Dr. Ralf Heckner
DESCRIPTION:
URL:https://sicc.ch/event/dinner-reception-with-ambassador-dr-ralf-heckner/
CATEGORIES:Key Note Presentation
ATTACH;FMTTYPE=image/jpeg:https://sicc.ch/wp-content/uploads/2019/05/SICC-switzerland-india-flags.jpg
END:VEVENT
END:VCALENDAR