BEGIN:VCALENDAR
VERSION:2.0
PRODID:-//SICC - ECPv5.7.1//NONSGML v1.0//EN
CALSCALE:GREGORIAN
METHOD:PUBLISH
X-ORIGINAL-URL:https://sicc.ch
X-WR-CALDESC:Events for SICC
BEGIN:VTIMEZONE
TZID:Europe/Zurich
BEGIN:DAYLIGHT
TZOFFSETFROM:+0100
TZOFFSETTO:+0200
TZNAME:CEST
DTSTART:20250330T010000
END:DAYLIGHT
BEGIN:STANDARD
TZOFFSETFROM:+0200
TZOFFSETTO:+0100
TZNAME:CET
DTSTART:20251026T010000
END:STANDARD
END:VTIMEZONE
BEGIN:VEVENT
DTSTART;TZID=Europe/Zurich:20251209T110000
DTEND;TZID=Europe/Zurich:20251209T143000
DTSTAMP:20260419T194620
CREATED:20251215T051610Z
LAST-MODIFIED:20251215T051610Z
UID:9679-1765278000-1765290600@sicc.ch
SUMMARY:CXO Roundtable Discussion on: Promoting Swiss-India Collaboration
DESCRIPTION:
URL:https://sicc.ch/event/cxo-roundtable-discussion-on-promoting-swiss-india-collaboration/
LOCATION:New Delhi\, New Delhi\, India
CATEGORIES:Member-to-Members
ATTACH;FMTTYPE=image/jpeg:https://sicc.ch/wp-content/uploads/2019/05/SICC-switzerland-india-flags.jpg
END:VEVENT
END:VCALENDAR