BEGIN:VCALENDAR
VERSION:2.0
PRODID:-//SICC - ECPv5.7.1//NONSGML v1.0//EN
CALSCALE:GREGORIAN
METHOD:PUBLISH
X-ORIGINAL-URL:https://sicc.ch
X-WR-CALDESC:Events for SICC
BEGIN:VTIMEZONE
TZID:Asia/Kolkata
BEGIN:STANDARD
TZOFFSETFROM:+0530
TZOFFSETTO:+0530
TZNAME:IST
DTSTART:20210101T000000
END:STANDARD
END:VTIMEZONE
BEGIN:VEVENT
DTSTART;TZID=Asia/Kolkata:20210506T153000
DTEND;TZID=Asia/Kolkata:20210506T170000
DTSTAMP:20260420T032513
CREATED:20210408T095931Z
LAST-MODIFIED:20210408T100023Z
UID:5790-1620315000-1620320400@sicc.ch
SUMMARY:CSR Amendments - A Game Changer
DESCRIPTION:
URL:https://sicc.ch/event/csr-amendments-a-game-changer/
CATEGORIES:Webinar
ATTACH;FMTTYPE=image/jpeg:https://sicc.ch/wp-content/uploads/2019/05/SICC-switzerland-india-flags.jpg
END:VEVENT
END:VCALENDAR