BEGIN:VCALENDAR
VERSION:2.0
PRODID:-//SICC - ECPv5.7.1//NONSGML v1.0//EN
CALSCALE:GREGORIAN
METHOD:PUBLISH
X-ORIGINAL-URL:https://sicc.ch
X-WR-CALDESC:Events for SICC
BEGIN:VTIMEZONE
TZID:Asia/Kolkata
BEGIN:STANDARD
TZOFFSETFROM:+0530
TZOFFSETTO:+0530
TZNAME:IST
DTSTART:20210101T000000
END:STANDARD
END:VTIMEZONE
BEGIN:VEVENT
DTSTART;TZID=Asia/Kolkata:20211111T163000
DTEND;TZID=Asia/Kolkata:20211111T173000
DTSTAMP:20260420T063127
CREATED:20211111T073905Z
LAST-MODIFIED:20211111T074717Z
UID:6234-1636648200-1636651800@sicc.ch
SUMMARY:Consumer Protection & Product Liability Law in India: A Paradigm Shift
DESCRIPTION:Consumer Protection & Product Liability Law in India: A Paradigm Shift  Thursday\, November 11\, 2021 (4:30 PM – 5:30 PM IST)    Click here to register:- https://conferenceunconference.com/w2021/Ereg_Nov1121.aspx?id=167  After almost 35 years\, India turned a new leaf in consumer welfare legislation with the introduction of the revamped Consumer Protection Act\, 2019. Amongst the various changes introduced is the new chapter dedicated to product liability\, which determines the roles and responsibilities for each stakeholder across the product supply chain. In addition\, the new law also establishes a consumer watchdog – the Central Consumer Protection Authority (CCPA) – entrusted with protecting and enforcing consumer rights as a class. Will the new regime bring about an increase in product liability claims? What enforcement activities can be expected of the CCPA? Join us as we deliberate on the contours and implications of the new law\, with special focus on the product liability framework.  Focus Areas: Some of the key issues that we would discuss include: \n\n\n\n\n\nKinds of products and services covered under the product liability regime\nDetermination of liability between product manufacturers\, service providers and product sellers\nImplication of the new framework for foreign manufacturers\nTypes of reliefs under the product liability regime\nTypical defenses against a product liability claim\nDispute resolution options for dealing with product liability claims\nRole of technical expert in a product liability claim
URL:https://sicc.ch/event/consumer-protection-product-liability-law-in-india-a-paradigm-shift/
CATEGORIES:Webinar
ATTACH;FMTTYPE=image/jpeg:https://sicc.ch/wp-content/uploads/2019/05/SICC-switzerland-india-flags.jpg
END:VEVENT
END:VCALENDAR