BEGIN:VCALENDAR
VERSION:2.0
PRODID:-//SICC - ECPv5.7.1//NONSGML v1.0//EN
CALSCALE:GREGORIAN
METHOD:PUBLISH
X-ORIGINAL-URL:https://sicc.ch
X-WR-CALDESC:Events for SICC
BEGIN:VTIMEZONE
TZID:Asia/Kolkata
BEGIN:STANDARD
TZOFFSETFROM:+0530
TZOFFSETTO:+0530
TZNAME:IST
DTSTART:20210101T000000
END:STANDARD
END:VTIMEZONE
BEGIN:VEVENT
DTSTART;TZID=Asia/Kolkata:20210429T160000
DTEND;TZID=Asia/Kolkata:20210429T170000
DTSTAMP:20260420T045228
CREATED:20210408T095746Z
LAST-MODIFIED:20210408T095815Z
UID:5787-1619712000-1619715600@sicc.ch
SUMMARY:Competition Law - Recent Trends in India
DESCRIPTION:
URL:https://sicc.ch/event/competition-law-recent-trends-in-india/
CATEGORIES:Webinar
ATTACH;FMTTYPE=image/jpeg:https://sicc.ch/wp-content/uploads/2019/05/SICC-switzerland-india-flags.jpg
END:VEVENT
END:VCALENDAR